Package: clusterExperiment Version: 2.27.0 Command: rm -rf clusterExperiment.buildbin-libdir && mkdir clusterExperiment.buildbin-libdir && E:\biocbuild\bbs-3.21-bioc\R\bin\R.exe CMD INSTALL --build --library=clusterExperiment.buildbin-libdir clusterExperiment_2.27.0.tar.gz StartedAt: 2025-02-10 07:28:38 -0500 (Mon, 10 Feb 2025) EndedAt: 2025-02-10 07:39:48 -0500 (Mon, 10 Feb 2025) EllapsedTime: 670.7 seconds RetCode: 0 Status: OK PackageFile: clusterExperiment_2.27.0.zip PackageFileSize: 9.019 MiB