Package: clusterExperiment Version: 2.27.0 Command: chmod a+r clusterExperiment -R && E:\biocbuild\bbs-3.21-bioc\R\bin\R.exe CMD build --keep-empty-dirs --no-resave-data clusterExperiment StartedAt: 2025-02-09 17:54:54 -0500 (Sun, 09 Feb 2025) EndedAt: 2025-02-09 18:05:34 -0500 (Sun, 09 Feb 2025) EllapsedTime: 639.9 seconds RetCode: 0 Status: OK PackageFile: clusterExperiment_2.27.0.tar.gz PackageFileSize: 7.726 MiB