Package: clusterExperiment Version: 2.27.0 Command: E:\biocbuild\bbs-3.21-bioc\R\bin\R.exe CMD check --no-multiarch --install=check:clusterExperiment.install-out.txt --library=E:\biocbuild\bbs-3.21-bioc\R\library --no-vignettes --timings clusterExperiment_2.27.0.tar.gz StartedAt: 2025-02-09 23:44:36 -0500 (Sun, 09 Feb 2025) EndedAt: 2025-02-10 00:00:34 -0500 (Mon, 10 Feb 2025) EllapsedTime: 958.1 seconds RetCode: 0 Status: WARNINGS CheckDir: clusterExperiment.Rcheck Warnings: 2