Package: clusterExperiment Version: 2.27.0 Command: E:\biocbuild\bbs-3.21-bioc\R\bin\R.exe CMD INSTALL clusterExperiment StartedAt: 2025-02-03 16:57:16 -0500 (Mon, 03 Feb 2025) EndedAt: 2025-02-03 17:00:15 -0500 (Mon, 03 Feb 2025) EllapsedTime: 179.1 seconds RetCode: 0 Status: OK