Package: clusterProfiler Version: 4.15.1 Command: /Library/Frameworks/R.framework/Resources/bin/R CMD check --install=check:clusterProfiler.install-out.txt --library=/Library/Frameworks/R.framework/Resources/library --no-vignettes --timings clusterProfiler_4.15.1.tar.gz StartedAt: 2025-02-12 19:37:42 -0500 (Wed, 12 Feb 2025) EndedAt: 2025-02-12 19:41:43 -0500 (Wed, 12 Feb 2025) EllapsedTime: 241.1 seconds RetCode: 0 Status: OK CheckDir: clusterProfiler.Rcheck Warnings: 0