Package: clusterProfiler Version: 4.15.1 Command: /home/biocbuild/bbs-3.21-bioc/R/bin/R CMD INSTALL clusterProfiler StartedAt: 2025-02-09 15:45:29 -0500 (Sun, 09 Feb 2025) EndedAt: 2025-02-09 15:45:54 -0500 (Sun, 09 Feb 2025) EllapsedTime: 24.9 seconds RetCode: 0 Status: OK