Package: clusterProfiler Version: 4.15.1 Command: E:\biocbuild\bbs-3.21-bioc\R\bin\R.exe CMD INSTALL clusterProfiler StartedAt: 2025-02-09 15:58:14 -0500 (Sun, 09 Feb 2025) EndedAt: 2025-02-09 16:00:35 -0500 (Sun, 09 Feb 2025) EllapsedTime: 140.8 seconds RetCode: 0 Status: OK