Package: clusterSeq Version: 1.31.0 Maintainer: Samuel Granjeaud MaintainerEmail: samuel.granjeaud at inserm.fr git_url: https://git.bioconductor.org/packages/clusterSeq git_branch: devel git_last_commit: 72a65eb git_last_commit_date: 2024-10-29 10:16:07 -0500 (Tue, 29 Oct 2024)