Package: clusterSeq Version: 1.31.0 Command: /Library/Frameworks/R.framework/Resources/bin/R CMD build --keep-empty-dirs --no-resave-data clusterSeq StartedAt: 2025-02-04 15:56:06 -0500 (Tue, 04 Feb 2025) EndedAt: 2025-02-04 15:56:28 -0500 (Tue, 04 Feb 2025) EllapsedTime: 22.2 seconds RetCode: 0 Status: OK PackageFile: clusterSeq_1.31.0.tar.gz PackageFileSize: 1.008 MiB