Package: clusterSeq Version: 1.31.0 Command: /Library/Frameworks/R.framework/Resources/bin/R CMD INSTALL clusterSeq StartedAt: 2025-02-04 15:07:42 -0500 (Tue, 04 Feb 2025) EndedAt: 2025-02-04 15:07:48 -0500 (Tue, 04 Feb 2025) EllapsedTime: 5.9 seconds RetCode: 0 Status: OK