Package: clusterSeq Version: 1.31.0 Command: /home/biocbuild/R/R/bin/R CMD build --keep-empty-dirs --no-resave-data clusterSeq StartedAt: 2025-01-28 21:57:34 -0000 (Tue, 28 Jan 2025) EndedAt: 2025-01-28 21:59:07 -0000 (Tue, 28 Jan 2025) EllapsedTime: 93.0 seconds RetCode: 0 Status: OK PackageFile: clusterSeq_1.31.0.tar.gz PackageFileSize: 1.005 MiB