Package: clusterSeq Version: 1.31.0 Command: /home/biocbuild/R/R/bin/R CMD INSTALL clusterSeq StartedAt: 2025-01-29 19:45:34 -0000 (Wed, 29 Jan 2025) EndedAt: 2025-01-29 19:45:53 -0000 (Wed, 29 Jan 2025) EllapsedTime: 18.7 seconds RetCode: 0 Status: OK