Package: clusterSeq Version: 1.31.0 Command: rm -rf clusterSeq.buildbin-libdir && mkdir clusterSeq.buildbin-libdir && /Users/biocbuild/BBS/utils/build-universal.sh clusterSeq_1.31.0.tar.gz /Library/Frameworks/R.framework/Resources/bin/R clusterSeq.buildbin-libdir StartedAt: 2025-02-04 00:27:53 -0500 (Tue, 04 Feb 2025) EndedAt: 2025-02-04 00:28:14 -0500 (Tue, 04 Feb 2025) EllapsedTime: 20.8 seconds RetCode: 0 Status: OK PackageFile: clusterSeq_1.31.0.tgz PackageFileSize: 1.053 MiB