Package: clusterSeq Version: 1.31.0 Command: /Library/Frameworks/R.framework/Resources/bin/R CMD build --keep-empty-dirs --no-resave-data clusterSeq StartedAt: 2025-02-03 16:21:10 -0500 (Mon, 03 Feb 2025) EndedAt: 2025-02-03 16:22:14 -0500 (Mon, 03 Feb 2025) EllapsedTime: 64.0 seconds RetCode: 0 Status: OK PackageFile: clusterSeq_1.31.0.tar.gz PackageFileSize: 1.009 MiB