Package: clusterSeq Version: 1.31.0 Command: /Library/Frameworks/R.framework/Resources/bin/R CMD check --install=check:clusterSeq.install-out.txt --library=/Library/Frameworks/R.framework/Resources/library --no-vignettes --timings clusterSeq_1.31.0.tar.gz StartedAt: 2025-02-03 19:39:40 -0500 (Mon, 03 Feb 2025) EndedAt: 2025-02-03 19:43:42 -0500 (Mon, 03 Feb 2025) EllapsedTime: 241.5 seconds RetCode: 0 Status: OK CheckDir: clusterSeq.Rcheck Warnings: 0