Package: clusterSeq Version: 1.31.0 Command: /home/biocbuild/bbs-3.21-bioc/R/bin/R CMD build --keep-empty-dirs --no-resave-data clusterSeq StartedAt: 2025-02-09 16:41:52 -0500 (Sun, 09 Feb 2025) EndedAt: 2025-02-09 16:42:47 -0500 (Sun, 09 Feb 2025) EllapsedTime: 55.1 seconds RetCode: 0 Status: OK PackageFile: clusterSeq_1.31.0.tar.gz PackageFileSize: 1.009 MiB