Package: clusterSeq Version: 1.31.0 Command: chmod a+r clusterSeq -R && E:\biocbuild\bbs-3.21-bioc\R\bin\R.exe CMD build --keep-empty-dirs --no-resave-data clusterSeq StartedAt: 2025-02-09 17:55:19 -0500 (Sun, 09 Feb 2025) EndedAt: 2025-02-09 17:57:14 -0500 (Sun, 09 Feb 2025) EllapsedTime: 115.6 seconds RetCode: 0 Status: OK PackageFile: clusterSeq_1.31.0.tar.gz PackageFileSize: 1.01 MiB