Package: clusterSeq Version: 1.31.0 Command: E:\biocbuild\bbs-3.21-bioc\R\bin\R.exe CMD check --no-multiarch --install=check:clusterSeq.install-out.txt --library=E:\biocbuild\bbs-3.21-bioc\R\library --no-vignettes --timings clusterSeq_1.31.0.tar.gz StartedAt: 2025-02-09 23:45:01 -0500 (Sun, 09 Feb 2025) EndedAt: 2025-02-09 23:52:48 -0500 (Sun, 09 Feb 2025) EllapsedTime: 466.6 seconds RetCode: 0 Status: OK CheckDir: clusterSeq.Rcheck Warnings: 0