Package: clusterSeq Version: 1.31.0 Command: E:\biocbuild\bbs-3.21-bioc\R\bin\R.exe CMD INSTALL clusterSeq StartedAt: 2025-02-09 15:39:33 -0500 (Sun, 09 Feb 2025) EndedAt: 2025-02-09 15:40:02 -0500 (Sun, 09 Feb 2025) EllapsedTime: 29.0 seconds RetCode: 0 Status: OK