Package: cmapR Version: 1.19.0 Command: /home/biocbuild/R/R/bin/R CMD build --keep-empty-dirs --no-resave-data cmapR StartedAt: 2025-01-28 21:58:10 -0000 (Tue, 28 Jan 2025) EndedAt: 2025-01-28 21:59:35 -0000 (Tue, 28 Jan 2025) EllapsedTime: 85.0 seconds RetCode: 0 Status: OK PackageFile: cmapR_1.19.0.tar.gz PackageFileSize: 3.756 MiB