Package: cmapR Version: 1.19.0 Command: /Library/Frameworks/R.framework/Resources/bin/R CMD build --keep-empty-dirs --no-resave-data cmapR StartedAt: 2025-02-09 16:19:25 -0500 (Sun, 09 Feb 2025) EndedAt: 2025-02-09 16:20:38 -0500 (Sun, 09 Feb 2025) EllapsedTime: 73.2 seconds RetCode: 0 Status: OK PackageFile: cmapR_1.19.0.tar.gz PackageFileSize: 3.736 MiB