Package: cmapR Version: 1.19.0 Command: /home/biocbuild/bbs-3.21-bioc/R/bin/R CMD build --keep-empty-dirs --no-resave-data cmapR StartedAt: 2025-02-09 16:42:11 -0500 (Sun, 09 Feb 2025) EndedAt: 2025-02-09 16:43:05 -0500 (Sun, 09 Feb 2025) EllapsedTime: 54.1 seconds RetCode: 0 Status: OK PackageFile: cmapR_1.19.0.tar.gz PackageFileSize: 3.817 MiB