Package: cmapR Version: 1.19.0 Command: /home/biocbuild/bbs-3.21-bioc/R/bin/R CMD check --install=check:cmapR.install-out.txt --library=/home/biocbuild/bbs-3.21-bioc/R/site-library --timings cmapR_1.19.0.tar.gz StartedAt: 2025-02-09 21:02:42 -0500 (Sun, 09 Feb 2025) EndedAt: 2025-02-09 21:06:01 -0500 (Sun, 09 Feb 2025) EllapsedTime: 199.3 seconds RetCode: 0 Status: OK CheckDir: cmapR.Rcheck Warnings: 0