Package: cmapR Version: 1.19.0 Command: rm -rf cmapR.buildbin-libdir && mkdir cmapR.buildbin-libdir && E:\biocbuild\bbs-3.21-bioc\R\bin\R.exe CMD INSTALL --build --library=cmapR.buildbin-libdir cmapR_1.19.0.tar.gz StartedAt: 2025-02-05 07:40:46 -0500 (Wed, 05 Feb 2025) EndedAt: 2025-02-05 07:41:31 -0500 (Wed, 05 Feb 2025) EllapsedTime: 44.6 seconds RetCode: 0 Status: OK PackageFile: cmapR_1.19.0.zip PackageFileSize: 3.885 MiB