Package: cmapR Version: 1.19.0 Command: E:\biocbuild\bbs-3.21-bioc\R\bin\R.exe CMD check --no-multiarch --install=check:cmapR.install-out.txt --library=E:\biocbuild\bbs-3.21-bioc\R\library --no-vignettes --timings cmapR_1.19.0.tar.gz StartedAt: 2025-02-05 00:13:16 -0500 (Wed, 05 Feb 2025) EndedAt: 2025-02-05 00:17:54 -0500 (Wed, 05 Feb 2025) EllapsedTime: 277.6 seconds RetCode: 0 Status: OK CheckDir: cmapR.Rcheck Warnings: 0