############################################################################## ############################################################################## ### ### Running command: ### ### /home/biocbuild/R/R/bin/R CMD build --keep-empty-dirs --no-resave-data cn.farms ### ############################################################################## ############################################################################## * checking for file ‘cn.farms/DESCRIPTION’ ... OK * preparing ‘cn.farms’: * checking DESCRIPTION meta-information ... OK * cleaning src * installing the package to build vignettes ----------------------------------- ERROR: dependency ‘oligo’ is not available for package ‘cn.farms’ Perhaps try a variation of: install.packages('oligo') * removing ‘/home/biocbuild/tmp/RtmpBUOYTN/Rinst55df44c7a545e/cn.farms’ ----------------------------------- ERROR: package installation failed