Package: cn.farms Version: 1.55.0 Command: /Library/Frameworks/R.framework/Resources/bin/R CMD INSTALL cn.farms StartedAt: 2025-02-09 15:18:18 -0500 (Sun, 09 Feb 2025) EndedAt: 2025-02-09 15:18:25 -0500 (Sun, 09 Feb 2025) EllapsedTime: 6.3 seconds RetCode: 1 Status: ERROR