Package: cn.farms Version: 1.55.0 Command: /home/biocbuild/bbs-3.21-bioc/R/bin/R CMD INSTALL cn.farms StartedAt: 2025-02-09 15:37:19 -0500 (Sun, 09 Feb 2025) EndedAt: 2025-02-09 15:37:20 -0500 (Sun, 09 Feb 2025) EllapsedTime: 1.0 seconds RetCode: 1 Status: ERROR