Package: cn.farms Version: 1.55.0 Command: rm -rf cn.farms.buildbin-libdir && mkdir cn.farms.buildbin-libdir && E:\biocbuild\bbs-3.21-bioc\R\bin\R.exe CMD INSTALL --build --library=cn.farms.buildbin-libdir cn.farms_1.55.0.tar.gz StartedAt: 2025-01-22 07:20:19 -0500 (Wed, 22 Jan 2025) EndedAt: 2025-01-22 07:21:22 -0500 (Wed, 22 Jan 2025) EllapsedTime: 62.7 seconds RetCode: 0 Status: OK PackageFile: cn.farms_1.55.0.zip PackageFileSize: 2.727 MiB