Package: cn.farms Version: 1.55.0 Command: E:\biocbuild\bbs-3.21-bioc\R\bin\R.exe CMD check --no-multiarch --install=check:cn.farms.install-out.txt --library=E:\biocbuild\bbs-3.21-bioc\R\library --no-vignettes --timings cn.farms_1.55.0.tar.gz StartedAt: 2025-01-21 23:45:59 -0500 (Tue, 21 Jan 2025) EndedAt: 2025-01-21 23:50:05 -0500 (Tue, 21 Jan 2025) EllapsedTime: 246.2 seconds RetCode: 0 Status: OK CheckDir: cn.farms.Rcheck Warnings: 0