Package: cnvGSA Version: 1.51.0 Command: /Library/Frameworks/R.framework/Resources/bin/R CMD build --keep-empty-dirs --no-resave-data cnvGSA StartedAt: 2025-02-09 16:19:57 -0500 (Sun, 09 Feb 2025) EndedAt: 2025-02-09 16:20:17 -0500 (Sun, 09 Feb 2025) EllapsedTime: 20.6 seconds RetCode: 0 Status: OK PackageFile: cnvGSA_1.51.0.tar.gz PackageFileSize: 334.2 KiB