Package: cnvGSA Version: 1.51.0 Command: /Library/Frameworks/R.framework/Resources/bin/R CMD INSTALL cnvGSA StartedAt: 2025-02-09 15:09:42 -0500 (Sun, 09 Feb 2025) EndedAt: 2025-02-09 15:09:57 -0500 (Sun, 09 Feb 2025) EllapsedTime: 15.9 seconds RetCode: 0 Status: OK