Package: cnvGSA Version: 1.51.0 Command: /home/biocbuild/bbs-3.21-bioc/R/bin/R CMD check --install=check:cnvGSA.install-out.txt --library=/home/biocbuild/bbs-3.21-bioc/R/site-library --timings cnvGSA_1.51.0.tar.gz StartedAt: 2025-02-09 21:04:06 -0500 (Sun, 09 Feb 2025) EndedAt: 2025-02-09 21:05:14 -0500 (Sun, 09 Feb 2025) EllapsedTime: 68.1 seconds RetCode: 0 Status: OK CheckDir: cnvGSA.Rcheck Warnings: 0