Package: cnvGSA Version: 1.51.0 Command: rm -rf cnvGSA.buildbin-libdir && mkdir cnvGSA.buildbin-libdir && E:\biocbuild\bbs-3.21-bioc\R\bin\R.exe CMD INSTALL --build --library=cnvGSA.buildbin-libdir cnvGSA_1.51.0.tar.gz StartedAt: 2025-02-10 07:29:33 -0500 (Mon, 10 Feb 2025) EndedAt: 2025-02-10 07:29:55 -0500 (Mon, 10 Feb 2025) EllapsedTime: 22.1 seconds RetCode: 0 Status: OK PackageFile: cnvGSA_1.51.0.zip PackageFileSize: 359.9 KiB