Package: cnvGSA Version: 1.51.0 Command: E:\biocbuild\bbs-3.21-bioc\R\bin\R.exe CMD INSTALL cnvGSA StartedAt: 2025-02-09 15:40:10 -0500 (Sun, 09 Feb 2025) EndedAt: 2025-02-09 15:40:40 -0500 (Sun, 09 Feb 2025) EllapsedTime: 30.1 seconds RetCode: 0 Status: OK