Package: coMET Version: 1.39.0 Command: /home/biocbuild/bbs-3.21-bioc/R/bin/R CMD build --keep-empty-dirs --no-resave-data coMET StartedAt: 2025-02-09 16:44:20 -0500 (Sun, 09 Feb 2025) EndedAt: 2025-02-09 16:46:51 -0500 (Sun, 09 Feb 2025) EllapsedTime: 151.2 seconds RetCode: 0 Status: OK PackageFile: coMET_1.39.0.tar.gz PackageFileSize: 21.83 MiB