Package: coMET Version: 1.39.0 Command: /home/biocbuild/bbs-3.21-bioc/R/bin/R CMD INSTALL coMET StartedAt: 2025-02-09 15:56:02 -0500 (Sun, 09 Feb 2025) EndedAt: 2025-02-09 15:56:58 -0500 (Sun, 09 Feb 2025) EllapsedTime: 56.0 seconds RetCode: 0 Status: OK