Package: coMET Version: 1.39.0 Command: chmod a+r coMET -R && E:\biocbuild\bbs-3.21-bioc\R\bin\R.exe CMD build --keep-empty-dirs --no-resave-data coMET StartedAt: 2025-02-09 17:59:31 -0500 (Sun, 09 Feb 2025) EndedAt: 2025-02-09 18:03:22 -0500 (Sun, 09 Feb 2025) EllapsedTime: 230.9 seconds RetCode: 0 Status: OK PackageFile: coMET_1.39.0.tar.gz PackageFileSize: 21.84 MiB