Package: coMET Version: 1.39.0 Command: E:\biocbuild\bbs-3.21-bioc\R\bin\R.exe CMD check --no-multiarch --install=check:coMET.install-out.txt --library=E:\biocbuild\bbs-3.21-bioc\R\library --no-vignettes --timings coMET_1.39.0.tar.gz StartedAt: 2025-02-13 00:00:59 -0500 (Thu, 13 Feb 2025) EndedAt: 2025-02-13 00:10:57 -0500 (Thu, 13 Feb 2025) EllapsedTime: 597.7 seconds RetCode: 1 Status: ERROR CheckDir: coMET.Rcheck Warnings: NA