Package: coMET Version: 1.39.0 Command: E:\biocbuild\bbs-3.21-bioc\R\bin\R.exe CMD INSTALL coMET StartedAt: 2025-02-09 16:43:43 -0500 (Sun, 09 Feb 2025) EndedAt: 2025-02-09 16:45:31 -0500 (Sun, 09 Feb 2025) EllapsedTime: 107.5 seconds RetCode: 0 Status: OK