Package: coMethDMR Version: 1.11.0 Command: /home/biocbuild/R/R/bin/R CMD INSTALL coMethDMR StartedAt: 2025-01-29 20:00:16 -0000 (Wed, 29 Jan 2025) EndedAt: 2025-01-29 20:01:44 -0000 (Wed, 29 Jan 2025) EllapsedTime: 87.5 seconds RetCode: 0 Status: OK