Package: coMethDMR Version: 1.11.0 Command: /Library/Frameworks/R.framework/Resources/bin/R CMD build --keep-empty-dirs --no-resave-data coMethDMR StartedAt: 2025-02-04 16:18:14 -0500 (Tue, 04 Feb 2025) EndedAt: 2025-02-04 16:22:02 -0500 (Tue, 04 Feb 2025) EllapsedTime: 228.2 seconds RetCode: 0 Status: OK PackageFile: coMethDMR_1.11.0.tar.gz PackageFileSize: 3.103 MiB