Package: cogena Version: 1.41.0 Command: rm -rf cogena.buildbin-libdir && mkdir cogena.buildbin-libdir && /Users/biocbuild/BBS/utils/build-universal.sh cogena_1.41.0.tar.gz /Library/Frameworks/R.framework/Resources/bin/R cogena.buildbin-libdir StartedAt: 2025-02-09 22:10:03 -0500 (Sun, 09 Feb 2025) EndedAt: 2025-02-09 22:10:10 -0500 (Sun, 09 Feb 2025) EllapsedTime: 7.1 seconds RetCode: 0 Status: OK PackageFile: cogena_1.41.0.tgz PackageFileSize: 7.7 MiB