Package: cogena Version: 1.41.0 Command: /Library/Frameworks/R.framework/Resources/bin/R CMD check --install=check:cogena.install-out.txt --library=/Library/Frameworks/R.framework/Resources/library --no-vignettes --timings cogena_1.41.0.tar.gz StartedAt: 2025-02-09 18:36:41 -0500 (Sun, 09 Feb 2025) EndedAt: 2025-02-09 18:38:02 -0500 (Sun, 09 Feb 2025) EllapsedTime: 80.9 seconds RetCode: 0 Status: WARNINGS CheckDir: cogena.Rcheck Warnings: 1