Package: cogena Version: 1.41.0 Command: /Library/Frameworks/R.framework/Resources/bin/R CMD build --keep-empty-dirs --no-resave-data cogena StartedAt: 2025-02-04 16:17:34 -0500 (Tue, 04 Feb 2025) EndedAt: 2025-02-04 16:21:31 -0500 (Tue, 04 Feb 2025) EllapsedTime: 236.6 seconds RetCode: 0 Status: OK PackageFile: cogena_1.41.0.tar.gz PackageFileSize: 7.509 MiB