Package: cogena Version: 1.41.0 Command: /Library/Frameworks/R.framework/Resources/bin/R CMD INSTALL cogena StartedAt: 2025-02-04 15:29:40 -0500 (Tue, 04 Feb 2025) EndedAt: 2025-02-04 15:29:59 -0500 (Tue, 04 Feb 2025) EllapsedTime: 19.5 seconds RetCode: 0 Status: OK