Package: cogena Version: 1.41.0 Command: /home/biocbuild/bbs-3.21-bioc/R/bin/R CMD build --keep-empty-dirs --no-resave-data cogena StartedAt: 2025-02-09 16:43:39 -0500 (Sun, 09 Feb 2025) EndedAt: 2025-02-09 16:46:26 -0500 (Sun, 09 Feb 2025) EllapsedTime: 167.2 seconds RetCode: 0 Status: OK PackageFile: cogena_1.41.0.tar.gz PackageFileSize: 7.333 MiB