Package: cogena Version: 1.41.0 Command: /home/biocbuild/bbs-3.21-bioc/R/bin/R CMD check --install=check:cogena.install-out.txt --library=/home/biocbuild/bbs-3.21-bioc/R/site-library --timings cogena_1.41.0.tar.gz StartedAt: 2025-02-04 21:03:43 -0500 (Tue, 04 Feb 2025) EndedAt: 2025-02-04 21:09:39 -0500 (Tue, 04 Feb 2025) EllapsedTime: 356.4 seconds RetCode: 0 Status: WARNINGS CheckDir: cogena.Rcheck Warnings: 1