Package: cogena Version: 1.41.0 Command: /home/biocbuild/bbs-3.21-bioc/R/bin/R CMD INSTALL cogena StartedAt: 2025-02-09 15:13:54 -0500 (Sun, 09 Feb 2025) EndedAt: 2025-02-09 15:14:08 -0500 (Sun, 09 Feb 2025) EllapsedTime: 13.8 seconds RetCode: 0 Status: OK