Package: cogena Version: 1.41.0 Command: chmod a+r cogena -R && E:\biocbuild\bbs-3.21-bioc\R\bin\R.exe CMD build --keep-empty-dirs --no-resave-data cogena StartedAt: 2025-02-09 17:58:36 -0500 (Sun, 09 Feb 2025) EndedAt: 2025-02-09 18:02:24 -0500 (Sun, 09 Feb 2025) EllapsedTime: 228.4 seconds RetCode: 0 Status: OK PackageFile: cogena_1.41.0.tar.gz PackageFileSize: 6.473 MiB